BEGIN:VCALENDAR
PRODID:-//Microsoft Corporation//Outlook 11.0 MIMEDIR//EN
VERSION:2.0
METHOD:PUBLISH
BEGIN:VEVENT
DTSTART:20260912T093000
DTEND:20260912T153000
LOCATION:Evang.-ref. Kirchgemeindehaus Poststrasse 163, 7050 Arosa
TRANSP:OPAQUE
SEQUENCE:0
UID:33bb0818-7106-4c01-bf76-6a47e74decd6-0
DTSTAMP:20260912T093000
DESCRIPTION:INHALT\nAn einem Samstag setzen sich die Kursteilnehmenden in 2x2 Stunden (plus Mittagspause) mit folgenden Themen auseinander:\n- Sterben ist ein Teil des Lebens\n- Vorsorgen und Entscheiden\n- Körperliche, psychische, soziale und existentielle Nöte lindern\n- Abschied nehmen\n\nVERANSTALTER\nEvangelisch-reformierte Kirchgemeinde Arosa\n\nANMELDUNG\nMit einem Klick auf "Jetzt anmelden". Die Teilnehmerzahl ist beschränkt.\n\nKOSTEN UND MITTAGESSEN\nBitte vermerken, ob man an einem gemeinsamen Mittagessen im Restaurant teilnehmen möchte. Die Kosten des Essens gehen zu Lasten der Teilnehmenden. Die Kurskosten übernimmt die Kirchgemeinde.\n\nKURSLEITUNG\nAnnina Samì-Heim, dipl. Pflegefachfrau HF\nSusanna Meyer-Kunz, Pfarrerin/Spitalseelsorgerin USZ\n\n\n\nKontakt\nEvangelisch-reformierte Landeskirche Graubünden\nGemeindediakonie, Freiwilligenarbeit und Organisationsberatung\nJohannes Kuoni\nLoestrasse 60\n7000 Chur\n081 257 11 85\n\nVerfügbarkeit / Datum, Zeit\n12.9.2026 09:30 - 15:30\n\nMittagspause von 11.30 - 13.30 Uhr\n\nPreis\nBitte vermerken, ob man an einem gemeinsamen Mittagessen im Restaurant teilnehmen möchte. Die Kosten des Essens gehen zu Lasten der Teilnehmenden. Die Kurskosten übernimmt die Kirchgemeinde.\n\nVorverkauf\nhttps://www.guidle.com/de/angebote_A1246849724?show_registration=true\n\n\nDas Angebot im Detail: https://www.guidle.com/angebote/1246849724/letzte_hilfe_kurs/arosa\nQuelle: https://www.guidle.com
SUMMARY:Letzte Hilfe Kurs
PRIORITY:5
X-MICROSOFT-CDO-IMPORTANCE:1
CLASS:PUBLIC
BEGIN:VALARM
TRIGGER:-P1D
ACTION:DISPLAY
DESCRIPTION:Reminder
END:VALARM
END:VEVENT
END:VCALENDAR