BEGIN:VCALENDAR
PRODID:-//Microsoft Corporation//Outlook 11.0 MIMEDIR//EN
VERSION:2.0
METHOD:PUBLISH
BEGIN:VEVENT
DTSTART:20260902T140000
DTEND:20260902T180000
LOCATION:Kirchliche Mediothek Welschdörfli 2, 7000 Chur
TRANSP:OPAQUE
SEQUENCE:0
UID:4aa78b0c-5839-4d13-b8ff-6a4e6e5344a0-0
DTSTAMP:20260902T140000
DESCRIPTION:Mit der Schriftkünstlerin Birgit Nass erstellen wir Stempel für Schulklassen und erproben das Material.\n\nKontakt\nEvangelisch-reformierte Landeskirche Graubünden\nBarbara Hanusa\nLoëstrasse 60\n7000 Chur\n081 257 11 86\n\nVerfügbarkeit / Datum, Zeit\n2.9.2026 14:00 - 18:00\n\nPreis\n80,-\n\n\nDas Angebot im Detail: https://www.guidle.com/angebote/1246483223/stempeln_fur_den_religionsunterricht/chur\nQuelle: https://www.guidle.com
SUMMARY:Stempeln für den Religionsunterricht
PRIORITY:5
X-MICROSOFT-CDO-IMPORTANCE:1
CLASS:PUBLIC
BEGIN:VALARM
TRIGGER:-P1D
ACTION:DISPLAY
DESCRIPTION:Reminder
END:VALARM
END:VEVENT
END:VCALENDAR