BEGIN:VCALENDAR
PRODID:-//Microsoft Corporation//Outlook 11.0 MIMEDIR//EN
VERSION:2.0
METHOD:PUBLISH
BEGIN:VEVENT
DTSTART:20280604T100000
DTEND:20280604T140000
LOCATION:Evang.-ref. Kirche St. Margarethen Via Porta Cotschna, 7130 Ilanz
TRANSP:OPAQUE
SEQUENCE:0
UID:37e73d25-d6f9-4320-895c-e4081a61b9af-0
DTSTAMP:20280604T100000
DESCRIPTION:Armenien ist ein Hochland im südlichen Kaukasus. Es liegt dort, wo Orient und Abendland aufeinandertreffen, hat knapp\ndrei Millionen Einwohnerinnen und Einwohner, wovon die Hälfte in der Hauptstadt Jerewan lebt. Armenien ist das älteste\nchristliche Land der Welt. Die Kirche ist eine Identitätsstifterin, die das armenische Volk durch seine leidvolle Geschichte getragen hat. Seit 2020 haben Kriege und die Vertreibung von 120‘000 Armenierinnen und Armeniern aus Berg-Karabach das Land in Trauer und Hoffnungslosigkeit versetzt. Junge Menschen verlassen das Land, während die Landbevölkerung nur ungenügenden Zugang zu Gesundheitsversorgung, Ausbildungsmöglichkeiten und Arbeit hat. Nur die Landwirtschaft sichert das Überleben. Hier setzt das Pfingstprojekt der Bündner Kirche in Zusammenarbeit mit Little Bridge an.\n\nDer Schwerpunkt des letzten der drei Projektjahre, 2028, liegt auf dem Dialog und Austausch. Armenische Projektleiterinnen kommen auf Arbeitsbesuch nach Graubünden, wir besuchen Landwirtschaftsbetriebe in Graubünden. \nAm Pfingstgottesdienst in Ilanz gibt es Inputs mit armenischer Kultur. Zum Abschluss des Pfingstprojektes Little Bridge - Nothilfe in Armenien findet eine Projektreise nach Armenien statt. Details folgen. Auskunft erteilt die Fachstelle Migration und Weltweite Kirche.\n\nhttps://gr-ref.ch/aktuelles/pfingstprojekt-nothilfe-in-armenien/; https://little-bridge-schweiz.ch/\n\nKontakt\nEvangelisch-reformierte Landeskirche Graubünden\nRita Gianelli\nLoëstrasse 60\n7000 Chur\n0794069499\n\nVerfügbarkeit / Datum, Zeit\n4.6.2028 10:00 - 14:00\n\ndetaillierte Zeitangaben folgen noch\n\nPreis\nkeine\n\nVorverkauf\nhttps://little-bridge-schweiz.ch/ , https://gr-ref.ch/aktuelles/pfingstprojekt-nothilfe-in-armenien/\n\n\nDas Angebot im Detail: https://www.guidle.com/angebote/1244843208/little_bridge_-_nothilfe_in_armenien_pfingstfest_in_ilanz/ilanz\nQuelle: https://www.guidle.com
SUMMARY:Little Bridge - Nothilfe in Armenien, Pfingstfest in Ilanz
PRIORITY:5
X-MICROSOFT-CDO-IMPORTANCE:1
CLASS:PUBLIC
BEGIN:VALARM
TRIGGER:-P1D
ACTION:DISPLAY
DESCRIPTION:Reminder
END:VALARM
END:VEVENT
END:VCALENDAR