BEGIN:VCALENDAR
PRODID:-//Microsoft Corporation//Outlook 11.0 MIMEDIR//EN
VERSION:2.0
METHOD:PUBLISH
BEGIN:VEVENT
DTSTART:20260617T090000
DTEND:20260617T120000
LOCATION:Theologische Hochschule Chur Alte Schanfiggerstrasse 7, 7000 Chur
TRANSP:OPAQUE
SEQUENCE:0
UID:84ca1860-9932-45af-860c-62eeda97c7b1-0
DTSTAMP:20260617T090000
DESCRIPTION:INHALT\nDie Struktur des Lehrmittels wird vorgestellt und die digitale Anwendung gemeinsam erprobt. \nDas Lehrmittel bezieht sich auf alle Klassenstufen. Im Juni 2026 steht es zunächst nur für die Klassenstufen 1 - 6 zur Verfügung.\nDie Anwendung funktioniert für alle Stufen nach demselben Prinzip.\n\nMITNEHMEN\nEs ist sinnvoll, das eigene Laptop mitzubringen und damit zu arbeiten.\n\nZIELGRUPPE\nDie Fortbildung richtet sich an alle, die im Kanton im Auftrag von reformierten Gemeinden Religion unterrichten. \n\nREFERENTIN\nDr. Barbara Hanusa und jeweils eine Person aus dem Team, das das Lehrmittel entwickelt hat.\n\nKontakt\nEvangelisch-reformierte Landeskirche Graubünden\nBarbara Hanusa\nLoëstrasse 60\n7000 Chur\n081 257 11 86\n\nVerfügbarkeit / Datum, Zeit\n17.6.2026 09:00 - 12:00\n\nPreis\nKeine, da Pflichtkurs\n\nVorverkauf\nhttps://www.guidle.com/de/angebote_A1243626869?show_registration=true\n\n\nDas Angebot im Detail: https://www.guidle.com/angebote/1243626869/nach_gott_und_der_welt_fragen_religion_lebendig_und_sinnvoll_unterrichten/chur\nQuelle: https://www.guidle.com
SUMMARY:Nach Gott und der Welt fragen: Religion lebendig und sinnvoll unterrichten
PRIORITY:5
X-MICROSOFT-CDO-IMPORTANCE:1
CLASS:PUBLIC
BEGIN:VALARM
TRIGGER:-P1D
ACTION:DISPLAY
DESCRIPTION:Reminder
END:VALARM
END:VEVENT
END:VCALENDAR