BEGIN:VCALENDAR
PRODID:-//Microsoft Corporation//Outlook 11.0 MIMEDIR//EN
VERSION:2.0
METHOD:PUBLISH
BEGIN:VEVENT
DTSTART:20260929T093000
DTEND:20260929T160000
LOCATION:Evang.-ref. Landeskirche Graubünden Loëstrasse 60, 7000 Chur
TRANSP:OPAQUE
SEQUENCE:0
UID:d7cebd32-a6ea-40a1-825c-6aeb33fe9b55-0
DTSTAMP:20260929T093000
DESCRIPTION:Theater...? Einfach machen! Niederschwellig und ohne grossen Aufwand lassen sich mit theaterpädagogischen Werkzeugen Geschichten so aufbereiten, dass sie von den Kindern im Rollenspiel erlebt werden können. Ab wann kann ich etwas vor Publikum zeigen? Welche verschiedenen Methoden gibt es dafür? Wie bringe ich ein fertiges Theaterstück auf die Bühne? Worauf muss ich bei der Regieführung achten und wie unterstütze ich die Akteur*innen optimal? Was ist bei der Stückwahl zu beachten und wie gelingt es mir, selbst ein Skript zu schreiben? An unserem Kurstag sind wir freudig und ganz praktisch ausprobierend miteinander unterwegs. Bisher gemachte Theater Erfahrungen werden mit eingebunden und Fragen aufgenommen. Ziel des Kurses ist es, eine kleine theaterpädagogische Werkzeugkiste und viel Mut zum Theaterspiel mit auf den Weg zu bekommen.\n\n\nKontakt\nEvangelisch-reformierte Landeskirche Graubünden\nBarbara Hanusa\nLoëstrasse 60\n7000 Chur\n081 257 11 86\n\nVerfügbarkeit / Datum, Zeit\n29.9.2026 09:30 - 16:00\n\nPreis\n80.-\n\n\nDas Angebot im Detail: https://www.guidle.com/angebote/1241350663/theater_einfach_machen/chur\nQuelle: https://www.guidle.com
SUMMARY:Theater…? Einfach machen!
PRIORITY:5
X-MICROSOFT-CDO-IMPORTANCE:1
CLASS:PUBLIC
BEGIN:VALARM
TRIGGER:-P1D
ACTION:DISPLAY
DESCRIPTION:Reminder
END:VALARM
END:VEVENT
END:VCALENDAR