BEGIN:VCALENDAR
PRODID:-//Microsoft Corporation//Outlook 11.0 MIMEDIR//EN
VERSION:2.0
METHOD:PUBLISH
BEGIN:VEVENT
DTSTART:20260612T093000
DTEND:20260612T173000
LOCATION:Klangwelt Toggenburg, Klangschmiede Sonnenhalbstrasse 22, 9656 Alt St. Johann
TRANSP:OPAQUE
SEQUENCE:0
UID:82b6b267-c899-4fb7-9780-f762b52ef24f-0
DTSTAMP:20260612T093000
DESCRIPTION:In diesem Kurs entsteht aus einfachem Metall ein eigenes Instrument. \n\nAm ersten Tag wird in der Klangschmiede Schritt für Schritt ein persönlicher Gong geschmiedet. Jeder Hammerschlag prägt seine Form und seinen Klang – ein individuelles akustisches Porträt.\n\nAm zweiten Tag öffnet das Klanghaus seine Türen für eine klangliche Entdeckungsreise. Der eigene Gong wird gespielt, seine Resonanzen werden erforscht und seine vielfältigen Ausdrucksmöglichkeiten zwischen kraftvollem Klang und meditativer Stille erlebt.\n\nEigene Gongs können mitgebracht werden. \n\nIm gemeinsamen Spiel entstehen neue Klangfarben, Rhythmen und Resonanzen – ein Dialog der Instrumente, der das Mysterium Gong erlebbar macht.\n\nKursdauer:\nFreitag, 12.06.2026, 09:30 Uhr bis Samstag, 13.06.2026, 13:30 Uhr\nEnde mit Mittagessen\n\nKurszeiten:\nFreitag, 12.06.2026\n09.30 bis 12.30 Uhr\n13.30 bis 17.30 Uhr\n\nSamstag, 13.06.2026\n09.30 bis 12.30 Uhr\nMittagessen 12.30 bis 13.30 Uhr\n\nKursleitung: Christof Linhuber\n\nAnzahl Teilnehmende: min. 6 / max. 8\n\nVoraussetzung: Keine handwerklichen Fachkenntnisse nötig\n\nHinweis:\nDie Materialkosten werden direkt vor Ort nach Verbrauch mit der Kursleitung abgerechnet. Je nach Materialwahl – Bronze, Messing oder Neusilber – liegen die Kosten für eine Scheibe von 30 cm bei ca. CHF 40.00 bis CHF 60.00.\n\nhttps://klangwelt.ch/angebote/kalender\n\nKontakt\nKlangwelt Toggenburg\nMirjam Hadorn\nSonnenhalbstrasse 22\n9656 Alt St. Johann\n+41719985000\n\nVerfügbarkeit / Datum, Zeit\n12.6.2026 09:30 - 17:30\n13.6.2026 09:30 - 12:30\n\nPreis\nCHF 580.00\n\nVorverkauf\nhttps://shop.e-guma.ch/klangwelt/de/events/mysterium-gong-26-0602-2272216\n\n\nDas Angebot im Detail: https://www.guidle.com/angebote/1241334631/mysterium_gong/alt_st_johann\nQuelle: https://www.guidle.com
SUMMARY:Mysterium Gong
PRIORITY:5
X-MICROSOFT-CDO-IMPORTANCE:1
CLASS:PUBLIC
BEGIN:VALARM
TRIGGER:-P1D
ACTION:DISPLAY
DESCRIPTION:Reminder
END:VALARM
END:VEVENT
END:VCALENDAR