BEGIN:VCALENDAR
PRODID:-//Microsoft Corporation//Outlook 11.0 MIMEDIR//EN
VERSION:2.0
METHOD:PUBLISH
BEGIN:VEVENT
DTSTART:20270413T093000
DTEND:20270413T160000
LOCATION:Evang.-ref. Landeskirche Graubünden Loëstrasse 60, 7000 Chur
TRANSP:OPAQUE
SEQUENCE:0
UID:2dbff53e-7d16-48d0-bbd7-fdd91c48da34-0
DTSTAMP:20270413T093000
DESCRIPTION:Ziel ist es, allen Teilnehmenden ein Gesamtbild der Bündner Landeskirche zu vermitteln. Was sind deren Auftrag und Aufgaben? Wie ist sie organisiert? Welches sind die Ansprechpersonen in der Landeskirche? Welche Schulungs- und Unterstützungsangebote gibt es für Vorstandsmitglieder und Mitarbeitende? Je nach Anmeldungen wird in Gruppen für Gemeindeleitung, Vorstandsarbeit, Religionsunterricht, Pfarramt, Sozialdiakonie, Administration, Kirchenmusik und Mesmerdienste gearbeitet.\n\nhttps://www.gr-ref.ch\n\nKontakt\nEvangelisch-reformierte Landeskirche Graubünden\nMainetti Cornelia\nLoëstrasse 60\n7000 Chur\n081 257 11 82\n\nVerfügbarkeit / Datum, Zeit\n13.4.2027 09:30 - 16:00\n\nAnmeldung bis 24. März 2027\n\nPreis\nkostenlos (inkl. Mittagessen)\n\nVorverkauf\nhttps://www.guidle.com/de/angebote_A1233600992?show_registration=true\n\n\nDas Angebot im Detail: https://www.guidle.com/angebote/1233600992/basiskurs_bundner_kirchgemeinde/chur\nQuelle: https://www.guidle.com
SUMMARY:Basiskurs Bündner Kirchgemeinde
PRIORITY:5
X-MICROSOFT-CDO-IMPORTANCE:1
CLASS:PUBLIC
BEGIN:VALARM
TRIGGER:-P1D
ACTION:DISPLAY
DESCRIPTION:Reminder
END:VALARM
END:VEVENT
END:VCALENDAR