BEGIN:VCALENDAR
PRODID:-//Microsoft Corporation//Outlook 11.0 MIMEDIR//EN
VERSION:2.0
METHOD:PUBLISH
BEGIN:VEVENT
DTSTART:20261007
LOCATION:Digicomp Academy Suisse Romande Rue de Monthoux 64, 1201 Genève
TRANSP:OPAQUE
RRULE:FREQ=WEEKLY;INTERVAL=1;UNTIL=20261009;WKST=MO;BYDAY=WE,TH,FR
UID:48d30d62-4160-4de9-8a57-50c759dffa81-0
DTSTAMP:20261007T120000
DESCRIPTION:C et C++ jouent actuellement et joueront un rôle prédominant, grâce à leur portabilité, leur flexibilité, leur efficacité et leur large diffusion. A l'issue de ce cours, vous maîtriserez les bases communes à ces deux langages.\n\nVoraussetzung\nUne expérience dans la programmation avec un langage comme Java, Pascal, Modula 2, PL/M, PL/1, Cobol, Fortran, Assembler, Basic ou similaire représente un avantage.\n\nZielgruppe\nProgrammeurs qui désirent apprendre le C ou/et C++.\n\nQuelle: www.weiterbildung.swiss\n\nhttps://www.digicomp.ch/f/CPG\n\nKontakt\nDigicomp Academy Suisse Romande SA\nRue de Monthoux 64\n1201 Genève\n+41 22 738 80 80\n\nVerfügbarkeit / Datum, Zeit\n7.10.2026 - 9.10.2026  Mi, Do, Fr\n\nPreis\nTeilnahmegebühr: CHF 2200\n\n\nDas Angebot im Detail: https://www.guidle.com/angebote/1232918250/introduction_a_la_programmation_en_c_et_c/geneve\nQuelle: https://www.guidle.com
SUMMARY:Introduction à la programmation en C et C++
PRIORITY:5
X-MICROSOFT-CDO-IMPORTANCE:1
CLASS:PUBLIC
BEGIN:VALARM
TRIGGER:-P1D
ACTION:DISPLAY
DESCRIPTION:Reminder
END:VALARM
END:VEVENT
END:VCALENDAR