BEGIN:VCALENDAR
PRODID:-//Microsoft Corporation//Outlook 11.0 MIMEDIR//EN
VERSION:2.0
METHOD:PUBLISH
BEGIN:VEVENT
DTSTART:20261115T100000
DTEND:20261115T170000
LOCATION:Evang.-ref. Landeskirche Graubünden Loëstrasse 60, 7000 Chur
TRANSP:OPAQUE
SEQUENCE:0
UID:9c72a41c-2af0-44ad-bd14-71072eb06e05-0
DTSTAMP:20261115T100000
DESCRIPTION:Brücken zwischen den Kulturen zu bauen und den Respekt gegenüber Andersgläubigen zu vertiefen, das ist das Ziel der Woche der Religionen, die schweizweit vom 7. bis 15. November 2026 stattfindet. In Graubünden werden die Aktivitäten in Zusammenarbeit mit dem Bündner Forum der Religionen und dem katholischen Frauenbund organisiert. Die Woche der Religionen findet in Graubünden im 2026 unter dem Motto Nachwuchs statt. Die Woche der Religionen richtet sich an alle Interessierten.\n\nDieses Jahr findet wieder eine interreligiöse Zugfahrt mit der Rhätischen Bahn statt, begleitet von TheologInnen aus verschiedenen Religionsgemeinschaften. Die genaue Tour wird noch bekanntgegeben.\n\nAnmeldung bis: 10. November 2026\n\nKontakt\nEvangelisch-reformierte Landeskirche Graubünden\nRita Gianelli\nLoëstrasse 60\n7000 Chur\n0794069499\n\nVerfügbarkeit / Datum, Zeit\n15.11.2026 10:00 - 17:00\n\nPreis\nkeine Kosten\n\n\nDas Angebot im Detail: https://www.guidle.com/angebote/1231723226/woche_der_religionen_-_interreligiose_zugfahrt/chur\nQuelle: https://www.guidle.com
SUMMARY:Woche der Religionen - interreligiöse Zugfahrt
PRIORITY:5
X-MICROSOFT-CDO-IMPORTANCE:1
CLASS:PUBLIC
BEGIN:VALARM
TRIGGER:-P1D
ACTION:DISPLAY
DESCRIPTION:Reminder
END:VALARM
END:VEVENT
END:VCALENDAR