BEGIN:VCALENDAR
PRODID:-//Microsoft Corporation//Outlook 11.0 MIMEDIR//EN
VERSION:2.0
METHOD:PUBLISH
BEGIN:VEVENT
DTSTART:20261111T193000
DTEND:20261111T210000
LOCATION:KulturPunkt Planaterrastrasse 11, 7000 Chur
TRANSP:OPAQUE
SEQUENCE:0
UID:5bef0d55-6f51-4f0b-bd04-4f682bdb95fd-0
DTSTAMP:20261111T193000
DESCRIPTION:Brücken zwischen den Kulturen zu bauen und den Respekt gegenüber Andersgläubigen zu vertiefen, das ist das Ziel der Woche der Religionen, die schweizweit vom 7. bis 15. November 2026 stattfindet. In Graubünden werden die Aktivitäten in Zusammenarbeit mit dem Bündner Forum der Religionen und dem katholischen Frauenbund organisiert. Die Woche der Religionen findet in Graubünden im 2026 unter dem Motto Nachwuchs statt.\n\nAm Mittwoch (11.11.26) in der Woche der Religionen gibt es jeweils ein interreligiöses Podium. Die Podiumsgäste diskutieren über die Zukunft der Religionsgemeinschaften. Teilnehmende: Bischof Joseph Bonnemain, Dekan Thomas Müller und besondere Gäste \n\nKontakt\nEvangelisch-reformierte Landeskirche Graubünden\nRita Gianelli\nLoëstrasse 60\n7000 Chur\n0794069499\n\nVerfügbarkeit / Datum, Zeit\n11.11.2026 19:30 - 21:00\n\nPreis\nkeine Kosten\n\n\nDas Angebot im Detail: https://www.guidle.com/angebote/1231722664/woche_der_religionen_-_interreligioses_podium/chur\nQuelle: https://www.guidle.com
SUMMARY:Woche der Religionen - Interreligiöses Podium
PRIORITY:5
X-MICROSOFT-CDO-IMPORTANCE:1
CLASS:PUBLIC
BEGIN:VALARM
TRIGGER:-P1D
ACTION:DISPLAY
DESCRIPTION:Reminder
END:VALARM
END:VEVENT
END:VCALENDAR