BEGIN:VCALENDAR
PRODID:-//Microsoft Corporation//Outlook 11.0 MIMEDIR//EN
VERSION:2.0
METHOD:PUBLISH
BEGIN:VEVENT
DTSTART:20261109T121500
DTEND:20261109T133000
LOCATION:KulturPunkt Planaterrastrasse 11, 7000 Chur
TRANSP:OPAQUE
SEQUENCE:0
UID:1611d728-e620-4e4c-942f-f9f2d78879e4-0
DTSTAMP:20261109T121500
DESCRIPTION:Brücken zwischen den Kulturen zu bauen und den Respekt gegenüber Andersgläubigen zu vertiefen, das ist das Ziel der Woche der Religionen, die schweizweit vom 7. bis 15. November 2026 stattfindet. In Graubünden werden die Aktivitäten in Zusammenarbeit mit dem Bündner Forum der Religionen und dem katholischen Frauenbund organisiert. Die Woche der Religionen findet in Graubünden im 2026 unter dem Motto Nachwuchs statt. \n\nAm Montag in der Woche der Religionen gibt es jeweils ein Lunch&Learn im Kulturpunkt. Bei einem Lunch erhalten die Teilnehmenden von einer Fachperson Einblick in einen Bereich der Themenwoche.\n\nKontakt\nEvangelisch-reformierte Landeskirche Graubünden\nRita Gianelli\nLoëstrasse 60\n7000 Chur\n0794069499\n\nVerfügbarkeit / Datum, Zeit\n9.11.2026 12:15 - 13:30\n\nPreis\nkeine Kosten\n\n\nDas Angebot im Detail: https://www.guidle.com/angebote/1231720875/woche_der_religionen_-_lunchlearn/chur\nQuelle: https://www.guidle.com
SUMMARY:Woche der Religionen - Lunch&Learn
PRIORITY:5
X-MICROSOFT-CDO-IMPORTANCE:1
CLASS:PUBLIC
BEGIN:VALARM
TRIGGER:-P1D
ACTION:DISPLAY
DESCRIPTION:Reminder
END:VALARM
END:VEVENT
END:VCALENDAR