BEGIN:VCALENDAR
PRODID:-//Microsoft Corporation//Outlook 11.0 MIMEDIR//EN
VERSION:2.0
METHOD:PUBLISH
BEGIN:VEVENT
DTSTART:20261128T100000
DTEND:20261128T160000
LOCATION:Evang.-ref. Landeskirche Graubünden Loëstrasse 60, 7000 Chur
TRANSP:OPAQUE
SEQUENCE:0
UID:15b9e074-0a5e-468f-9a52-53efdd31de36-0
DTSTAMP:20261128T100000
DESCRIPTION:Gute Nachrichten sind lebenswichtig.\nDie Schriften des Neuen Testaments erzählen von einem Gott, der Mensch ist. Alles dreht sich um Jesus von Nazareth. Ist das alles wahr oder nur erfunden?\n\nWir schauen hinter die Kulissen der Texte, die die Weltreligion "Christentum" begründen.\nSie können alle Ihre Fragen mitbringen. Verständlich und wissenschaftlich fundiert werden sie beantwortet. \n\nDer Theologiekurs richtet sich an alle Personen, die einen Einblick in theologisches Denken gewinnen möchten, an Freiwillige und Ehrenamtliche in Kirchgemeinden. Sie müssen aber nicht Mitglied einer Kirche sein – der Kurs ist für alle offen.\n\nTeilnehmende können nach dem Besuch des Moduls grundlegende Problemstellungen beschreiben und und Argumente abwägen, eigene Standpunkte nachvollziehbar begründen und bei entsprechender didaktischer Qualifikation und Zulassung (Pädagogische Hochschule, Lehrerpatent) schulischen Unterricht zum Thema anbieten. Für aktive Lehrpersonen ist das Modul als Weiterbildung und Vertiefung geeignet.\n\nDer evangelische Theologiekurs Graubünden: 18 spannende Module für Ihre persönliche Weiterbildung, wissenschaftlich fundiert und allgemeinverständlich. Persönliche Begegnung, Videokonferenzen und E-Learning kombiniert, daher familienfreundlich und mit grossen Entfernungen vereinbar.\n\nhttps://www.theologiekurs-graubuenden.ch\n\nKontakt\nEvangelischer Theologiekurs Graubünden\nEvangelische Landeskirche Graubünden\nProf. Dr. Jörg Lanckau (Studienleiter)\nLoëstrasse 60\n7000 Chur\n+41793394637\n\nVerfügbarkeit / Datum, Zeit\n28.11.2026 10:00 - 16:00\n4.12.2026 18:00 - 20:00\n11.12.2026 18:00 - 20:00\n9.1.2027 10:00 - 16:00\n15.1.2027 18:00 - 20:00\n22.1.2027 18:00 - 20:00\n30.1.2027 10:00 - 16:00\n5.2.2027 18:00 - 20:00\n\nDie Kurstage 28.11.2026, 09.01.2027 und 30.01.2027 finden in Präsenz in Chur statt. Eine hybride Teilnahme via Zoom ist nach Absprache möglich. Die Kursabende am Freitag finden online via Zoom statt. \n\nPreis\nCHF 240.00\n\n\nDas Angebot im Detail: https://www.guidle.com/angebote/1230971361/wer_zur_quelle_mochte_muss_gegen_den_strom_schwimmen/chur\nQuelle: https://www.guidle.com
SUMMARY:Wer zur Quelle möchte, muss gegen den Strom schwimmen!
PRIORITY:5
X-MICROSOFT-CDO-IMPORTANCE:1
CLASS:PUBLIC
BEGIN:VALARM
TRIGGER:-P1D
ACTION:DISPLAY
DESCRIPTION:Reminder
END:VALARM
END:VEVENT
END:VCALENDAR