BEGIN:VCALENDAR
PRODID:-//Microsoft Corporation//Outlook 11.0 MIMEDIR//EN
VERSION:2.0
METHOD:PUBLISH
BEGIN:VEVENT
DTSTART:20260915T090000
DTEND:20260915T170000
LOCATION:Evang.-ref. Kirchgemeindehaus Obere Strasse 12, 7270 Davos Platz
TRANSP:OPAQUE
SEQUENCE:0
UID:36d857d8-d457-4607-84c3-822f0ae86568-0
DTSTAMP:20260915T090000
DESCRIPTION:Tauche am Kurstag “KI und Kirche” in die faszinierende Welt der Künstlichen Intelligenz ein und erfahre, wie moderne Technologien den kirchlichen Alltag bereichern können. \n\nPraxisnahe Workshops vermitteln technisches Know-how ebenso wie ethische Reflexion und konkrete Anwendungsmöglichkeiten in Gottesdienst, Katechese und Diakonie. Entdecke Chancen und Herausforderungen. \n\nKURSLEITUNG\nAntonia Zahner & Spiro Mavrias \n\nVORAUSSETZUNGEN\nWLAN-fähiges Notebook oder Tablet mit Ladekabel; Anwender-Grundkenntnisse \n\nORGANISATION\nDer Kurs wird durch das Diakonatskapitel Graubünden in Zusammenarbeit mit der Abteilung Kirchliches Leben der Landeskirche organisiert. \n\nZIELGRUPPE\nKirchliche Mitarbeitende, Mitglieder von Kirchgemeindevorständen und Freiwillige, die KI in der kirchlichen Tätigkeit nutzen oder nutzen möchten.\n\nKontakt\nEvangelisch-reformierte Landeskirche Graubünden\nDiakonatskapitel\nWalter Bstieler\nRheinstrasse 2\n7302 Landquart\n078 326 13 68\n\nVerfügbarkeit / Datum, Zeit\n15.9.2026 09:00 - 17:00\n\nPreis\nFür Mitglieder des Diakonatskapitels und Mitglieder von Kirchgemeindevorständen ist die Teilnahme am Kurs kostenlos. Für weitere Interessierte betragen die Kurskosten CHF 110.- inklusive Mittagessen. \n\nVorverkauf\nhttps://www.guidle.com/de/angebote_A1230338114?show_registration=true\n\n\nDas Angebot im Detail: https://www.guidle.com/angebote/1230338114/ki_und_kirche/davos_platz\nQuelle: https://www.guidle.com
SUMMARY:KI und Kirche
PRIORITY:5
X-MICROSOFT-CDO-IMPORTANCE:1
CLASS:PUBLIC
BEGIN:VALARM
TRIGGER:-P1D
ACTION:DISPLAY
DESCRIPTION:Reminder
END:VALARM
END:VEVENT
END:VCALENDAR