BEGIN:VCALENDAR
PRODID:-//Microsoft Corporation//Outlook 11.0 MIMEDIR//EN
VERSION:2.0
METHOD:PUBLISH
BEGIN:VEVENT
DTSTART:20260724
LOCATION:Sal, 9606 Bütschwil
TRANSP:OPAQUE
RRULE:FREQ=WEEKLY;INTERVAL=1;UNTIL=20260725;WKST=MO;BYDAY=MO,TU,WE,TH,FR,SA,SU
UID:5291951c-680e-4f44-b268-4e6ce52c7dc3-0
DTSTAMP:20260724T120000
DESCRIPTION:Auch in diesem Jahr findet am letzten Juli Wochenende das Bütschwiler Openairs statt. Einmal mehr dürfen wir nicht nur vielversprechende Newcomer:innen sondern auch etablierte Grössen der Schweizer Musikszene auf unserer Bühne begrüssen.\nFood-Caterer aus der Region werden für die Verpflegung sorgen. Ausserdem laden verschiedene Stände und Bars zum Verweilen auf dem Gelände ein.\n\nDas Line-Up und weitere Infos sind ab Mitte Mai auf unserer Website zu finden.\n\nhttps://www.openairbuetschwil.ch/\n\nKontakt\nOpenair Bütschwil\n9606 Bütschwil\n+41 79 916 99 68\n\nVerfügbarkeit / Datum, Zeit\n24.7.2026 - 25.7.2026 \n\nFreitag ab 17:00 / Samstag ab 13.30\n\nVorverkauf\nhttps://www.openairbuetschwil.ch/tickets\n\n\nDas Angebot im Detail: https://www.guidle.com/angebote/1162206952/openair_butschwil_2026/butschwil\nQuelle: https://www.guidle.com
SUMMARY:Openair Bütschwil 2026
PRIORITY:5
X-MICROSOFT-CDO-IMPORTANCE:1
CLASS:PUBLIC
BEGIN:VALARM
TRIGGER:-P1D
ACTION:DISPLAY
DESCRIPTION:Reminder
END:VALARM
END:VEVENT
END:VCALENDAR