BEGIN:VCALENDAR
PRODID:-//Microsoft Corporation//Outlook 11.0 MIMEDIR//EN
VERSION:2.0
METHOD:PUBLISH
BEGIN:VEVENT
DTSTART:20270429T180000
DTEND:20270429T213000
LOCATION:Evang.-ref. Landeskirche Graubünden Loëstrasse 60, 7000 Chur
TRANSP:OPAQUE
SEQUENCE:0
UID:f7efaed1-0131-463e-b30a-a8c79d3de53e-0
DTSTAMP:20270429T180000
DESCRIPTION:In diesem Kurs werden verschiedene Protokollformen in ihrer situationsgerechten Verwendung aufgezeigt. Sie erfahren, wie Sie als Protokollführende/r Besprechungen und Sitzungen effizient vorbereiten und aufzeichnen.\nDieser Kurs wird in Zusammenarbeit mit benevol angeboten. Referentin ist Isabel Christen, Unternehmensberaterin BusinessConsulta, Chur \n\nhttps://www.gr-ref.ch\n\nKontakt\nEvangelisch-reformierte Landeskirche Graubünden\nMainetti Cornelia\nLoëstrasse 60\n7000 Chur\n081 257 11 82\n\nVerfügbarkeit / Datum, Zeit\n29.4.2027 18:00 - 21:30\n\nAnmeldefrist: 16. April 2026\n\nPreis\nCHF 80.00 - Für Mitglieder kirchlicher Behörden kostenlos.\n\nVorverkauf\nhttps://www.guidle.com/de/angebote_A1149037988?show_registration=true\n\n\nDas Angebot im Detail: https://www.guidle.com/angebote/1149037988/effiziente_protokollfuhrung/chur\nQuelle: https://www.guidle.com
SUMMARY:Effiziente Protokollführung
PRIORITY:5
X-MICROSOFT-CDO-IMPORTANCE:1
CLASS:PUBLIC
BEGIN:VALARM
TRIGGER:-P1D
ACTION:DISPLAY
DESCRIPTION:Reminder
END:VALARM
END:VEVENT
END:VCALENDAR